BEGIN:VCALENDAR
VERSION:2.0
PRODID:-//Tukios.com/
BEGIN:VEVENT
UID:8605887d-8d51-4085-ada0-486516b0e46f@www.callahanandhughes.com
DTSTAMP:20260424T201012Z
DTSTART:20260502T180000Z
DTEND:20260502T190000Z
SUMMARY:Funeral Service
DESCRIPTION:
URL:https://www.callahanandhughes.com/obituaries/roberta-bakker
LOCATION:Callahan & Hughes Funeral Home 605 S 25th St  Terre Haute IN 
	47803
GEO:39.4600068;-87.3791344
END:VEVENT
END:VCALENDAR