BEGIN:VCALENDAR
VERSION:2.0
PRODID:-//Tukios.com/
BEGIN:VEVENT
UID:2dc22bdc-a9f5-40df-b027-70d87cb2cd2e@www.callahanandhughes.com
DTSTAMP:20260424T201048Z
DTSTART:20260502T150000Z
DTEND:20260502T180000Z
SUMMARY:Visitation
DESCRIPTION:
URL:https://www.callahanandhughes.com/obituaries/roberta-bakker
LOCATION:Callahan & Hughes Funeral Home 605 S 25th St  Terre Haute IN 
	47803
GEO:39.4600068;-87.3791344
END:VEVENT
END:VCALENDAR