BEGIN:VCALENDAR
VERSION:2.0
PRODID:-//Tukios.com/
BEGIN:VEVENT
UID:9b610207-2dac-46c7-8b10-43ee4eaff32e@www.callahanandhughes.com
DTSTAMP:20260422T143551Z
DTSTART:20260425T170000Z
DTEND:20260425T180000Z
SUMMARY:Mass
DESCRIPTION:
URL:https://www.callahanandhughes.com/obituaries/mary-barrett
LOCATION:St. Joseph University Parish 113 South 5th Street  Terre Haute 
	IN 47807
GEO:39.4649751;-87.4115738
END:VEVENT
END:VCALENDAR