BEGIN:VCALENDAR
VERSION:2.0
PRODID:-//Tukios.com/
BEGIN:VEVENT
UID:c580466b-f912-42a2-bb10-84ec7363c3ab@www.callahanandhughes.com
DTSTAMP:20260422T143254Z
DTSTART:20260425T143000Z
DTEND:20260425T163000Z
SUMMARY:Visitation
DESCRIPTION:
URL:https://www.callahanandhughes.com/obituaries/mary-barrett
LOCATION:Callahan & Hughes Funeral Home 605 S 25th St  Terre Haute IN 
	47803
GEO:39.4600068;-87.3791344
END:VEVENT
END:VCALENDAR